BEGIN:VCALENDAR
VERSION:2.0
PRODID:-//ChamberMaster//Event Calendar 2.0//EN
METHOD:PUBLISH
X-PUBLISHED-TTL:P3D
REFRESH-INTERVAL:P3D
CALSCALE:GREGORIAN
BEGIN:VEVENT
DTSTART:20260619T140000Z
DTEND:20260619T190000Z
X-MICROSOFT-CDO-ALLDAYEVENT:FALSE
SUMMARY:Care Foundation Open
DESCRIPTION:Golf Tournament that will raise funds for the Care Foundation. These funds are used for community service projects and scholarships
X-ALT-DESC;FMTTYPE=text/html:Golf Tournament that will raise funds for the Care Foundation. These funds are used for community service projects and scholarships
LOCATION:The Ledges Golf Course 1585 Ledges Parkway St George\, Utah
UID:e.9588.26574
SEQUENCE:3
DTSTAMP:20260424T060944Z
URL:https://members.suhba.com/events/details/care-foundation-open-26574
END:VEVENT

END:VCALENDAR
