BEGIN:VCALENDAR
VERSION:2.0
PRODID:-//ChamberMaster//Event Calendar 2.0//EN
METHOD:PUBLISH
X-PUBLISHED-TTL:P3D
REFRESH-INTERVAL:P3D
CALSCALE:GREGORIAN
BEGIN:VEVENT
DTSTART:20251117T190000Z
DTEND:20251117T200000Z
X-MICROSOFT-CDO-ALLDAYEVENT:FALSE
SUMMARY:Food and Facts
DESCRIPTION:Food and Facts Event\n\nCome and learn from Planstin at 12 pm for lunch. \n\nRSVP to the SUHBA Office by November 14th. \n\n435-674-1400
X-ALT-DESC;FMTTYPE=text/html:Food and Facts Event<br />\nCome and learn from Planstin at 12 pm for lunch.&nbsp\;<br />\nRSVP to the SUHBA Office by November 14th.&nbsp\;<br />\n435-674-1400
LOCATION:SUHBA Office Training Room 301 N 200 E in St George\, UT Park in the North parking lot and enter the building on the door to the right marked SUHBA Education Entrance.
UID:e.9588.26481
SEQUENCE:3
DTSTAMP:20260424T073222Z
URL:https://members.suhba.com/events/details/food-and-facts-26481
END:VEVENT

END:VCALENDAR
