BEGIN:VCALENDAR
VERSION:2.0
PRODID:-//ChamberMaster//Event Calendar 2.0//EN
METHOD:PUBLISH
X-PUBLISHED-TTL:P3D
REFRESH-INTERVAL:P3D
CALSCALE:GREGORIAN
BEGIN:VEVENT
DTSTART:20240604T174500Z
DTEND:20240604T190000Z
X-MICROSOFT-CDO-ALLDAYEVENT:FALSE
SUMMARY:General Membership Luncheon
DESCRIPTION:June Luncheon\n\nPlease join us on June 4th\n\n11:45 am - 1:00 pm\n\nCourtyard by Marriott\n\nNO RSVP NEEDED\nOne FREE lunch for one SUHBA member per company.\n\nAdditional lunches are $24.00 each.
X-ALT-DESC;FMTTYPE=text/html:<p><span style="color:#660000\;"><strong><span style="font-size:16px\;"><span style="font-size:20px\;">June Luncheon</span></span></strong></span><br />\n<span style="color:#000000\;"><strong><span style="font-size:16px\;">Please join us on June 4th</span></strong></span><br />\n<span style="color:#660000\;"><strong><span style="font-size:16px\;">11:45 am - 1:00 pm</span></strong></span><br />\n<span style="font-size:20px\;"><strong><span style="font-size:16px\;">Courtyard by Marriott</span><br />\nNO RSVP NEEDED</strong></span></p>\nO<span style="font-size:14px\;"><span style="font-weight: bold\;">ne FREE lunch for one SUHBA member per company.</span></span><br />\n<span style="font-size:14px\;"><span style="font-weight: bold\;">Additional lunches are $24.00 each.</span></span>\n\n<p>&nbsp\;</p>\n
LOCATION:Courtyard by Marriott 185 S 1470 E St. George\, UT
UID:e.9588.26278
SEQUENCE:3
DTSTAMP:20260425T230306Z
URL:https://members.suhba.com/events/details/general-membership-luncheon-26278
END:VEVENT

END:VCALENDAR
