BEGIN:VCALENDAR
VERSION:2.0
PRODID:-//ChamberMaster//Event Calendar 2.0//EN
METHOD:PUBLISH
X-PUBLISHED-TTL:P3D
REFRESH-INTERVAL:P3D
CALSCALE:GREGORIAN
BEGIN:VEVENT
DTSTART:20260318T180000Z
DTEND:20260318T190000Z
X-MICROSOFT-CDO-ALLDAYEVENT:FALSE
SUMMARY:Marketing Committee
DESCRIPTION:Please join us for SUHBA's Marketing Committee meeting! (By invite only) Lunch will be provided.
X-ALT-DESC;FMTTYPE=text/html:Please join us for SUHBA&#39\;s Marketing Committee meeting! (By invite only) Lunch will be provided.&nbsp\;
LOCATION:SUHBA Office 301 N 200 E\, Ste 2A St. George UT Park in the north parking lot (closer to Dixie Rock) to avoid using the stairs.
UID:e.9588.26482
SEQUENCE:3
DTSTAMP:20260424T033742Z
URL:https://members.suhba.com/events/details/marketing-committee-26482
END:VEVENT

END:VCALENDAR
