BEGIN:VCALENDAR
VERSION:2.0
PRODID:-//ChamberMaster//Event Calendar 2.0//EN
METHOD:PUBLISH
X-PUBLISHED-TTL:P3D
REFRESH-INTERVAL:P3D
CALSCALE:GREGORIAN
BEGIN:VEVENT
DTSTART:20230207T183000Z
DTEND:20230207T200000Z
X-MICROSOFT-CDO-ALLDAYEVENT:FALSE
SUMMARY:Parade Builder Luncheon
DESCRIPTION:
X-ALT-DESC;FMTTYPE=text/html:
LOCATION:Courtyard Marriot
UID:e.9588.26110
SEQUENCE:3
DTSTAMP:20260422T121105Z
URL:https://members.suhba.com/events/details/parade-builder-luncheon-26110
END:VEVENT

END:VCALENDAR
