BEGIN:VCALENDAR
VERSION:2.0
PRODID:-//ChamberMaster//Event Calendar 2.0//EN
METHOD:PUBLISH
X-PUBLISHED-TTL:P3D
REFRESH-INTERVAL:P3D
CALSCALE:GREGORIAN
BEGIN:VEVENT
DTSTART:20260223T160000Z
DTEND:20260224T000000Z
X-MICROSOFT-CDO-ALLDAYEVENT:FALSE
SUMMARY:Parade of Homes Deadline
DESCRIPTION:2026 Parade of Homes Deadline\n\n\n\nMonday\, February 23\, 2026 - 5:00 pm* $200 Weekly Late Penalty\n\n\n\nDeliver to SUHBA:\n\n	Remove Shoes / Socks Required Sign\n	Ticket Sign Policy Sign \n	School group evaluation cards\n	Builder Information Folders\n	Badges\n	Virtual Tour Sign\n	Parade Retractable Sign with case\n	Zion Mat\n	Shoe Bags\n\n\n\nPlease do not return the following: \n\n	A-frame with home number\n	Furnishings for sale sign\n	Directional signs\n	Magazines
X-ALT-DESC;FMTTYPE=text/html:<span style="color:#0000CD\;"><span style="font-size:18px\;"><strong>2026 Parade of Homes Deadline</strong></span></span><br />\n<br />\n<strong>Monday\, February 23\, 2026 - 5:00 pm* $200 Weekly Late Penalty</strong><br />\n<br />\nDeliver to SUHBA:\n<ul>\n	<li>Remove Shoes / Socks Required&nbsp\;Sign</li>\n	<li>Ticket Sign Policy Sign&nbsp\;</li>\n	<li>School group&nbsp\;evaluation cards</li>\n	<li>Builder Information Folders</li>\n	<li>Badges</li>\n	<li>Virtual Tour Sign</li>\n	<li>Parade Retractable Sign with case</li>\n	<li>Zion Mat</li>\n	<li>Shoe Bags</li>\n</ul>\n<br />\nPlease do not return the following:&nbsp\;\n<ul>\n	<li>A-frame with home number</li>\n	<li>Furnishings for&nbsp\;sale sign</li>\n	<li>Directional signs</li>\n	<li>Magazines</li>\n</ul>\n
LOCATION:SUHBA 301 N 200 E #2A St George\, UT 84770
UID:e.9588.26479
SEQUENCE:3
DTSTAMP:20260424T034502Z
URL:https://members.suhba.com/events/details/parade-of-homes-deadline-26479
END:VEVENT

END:VCALENDAR
