BEGIN:VCALENDAR
VERSION:2.0
PRODID:-//ChamberMaster//Event Calendar 2.0//EN
METHOD:PUBLISH
X-PUBLISHED-TTL:P3D
REFRESH-INTERVAL:P3D
CALSCALE:GREGORIAN
BEGIN:VEVENT
DTSTART:20260212T160000Z
DTEND:20260213T000000Z
X-MICROSOFT-CDO-ALLDAYEVENT:FALSE
SUMMARY:Parade of Homes - Deliver Certificate of Occupancy
DESCRIPTION:Parade of Homes Deadline\n\nThursday\, February 12\, 2026 - 5:00 pm\n\nDeliver Certificate of Occupancy to the Association office by 5:00 p.m.
X-ALT-DESC;FMTTYPE=text/html:<p class="MsoNormal" style="margin-bottom:7.5pt\;line-height:15.0pt"><b><span style="font-size: 14pt\; font-family: Garamond\, serif\;"><o:p>&nbsp\;</o:p></span></b><b style="line-height: 1.42857\;"><span style="font-size: 14pt\; font-family: Garamond\, serif\; color: rgb(255\, 0\, 0)\; text-decoration: underline\;">Parade of Homes Deadline</span></b></p>\n\n<p class="MsoNormal" style="margin-bottom:7.5pt\;line-height:15.0pt"><b><span style="font-size: 14pt\; font-family: Garamond\, serif\;">Thursday\, February 12\, 2026&nbsp\;- 5:00 pm<o:p></o:p></span></b></p>\n\n<p class="MsoNormal" style="margin-bottom:0in\;margin-bottom:.0001pt\;line-height:\\r\\n15.0pt"><span style="font-size: 10.5pt\; font-family: Arial\, sans-serif\;">Deliver Certificate of Occupancy to the Association office by 5:00 p.m.</span><br />\n<br />\n&nbsp\;</p>\n
LOCATION:
UID:e.9588.26480
SEQUENCE:3
DTSTAMP:20260424T045717Z
URL:https://members.suhba.com/events/details/parade-of-homes-deliver-certificate-of-occupancy-26480
END:VEVENT

END:VCALENDAR
