BEGIN:VCALENDAR
VERSION:2.0
PRODID:-//ChamberMaster//Event Calendar 2.0//EN
METHOD:PUBLISH
X-PUBLISHED-TTL:P3D
REFRESH-INTERVAL:P3D
CALSCALE:GREGORIAN
BEGIN:VEVENT
DTSTART:20260210T160000Z
DTEND:20260210T190000Z
X-MICROSOFT-CDO-ALLDAYEVENT:FALSE
SUMMARY:Parade of Homes - Final Inspection Day
DESCRIPTION:Final Inspection Day - Tuesday\, February 10\, 2026\n\n9:00 am\n\n \n\na.  Home completely finished. Refer to Exhibit 4.\n\nb.  Deliver Signed Final Inspection Checklist (Exhibit 4) to Association prior to 9:00 am.\n\n\n\nClick here to complete and submit Final Inspection Checklist online.\n\n\n\n\n\nHere is a full list of Parade deadlines.
X-ALT-DESC;FMTTYPE=text/html:<p class="MsoNormal" style="margin-left:.5in\;text-indent:.5in"><b><span style="font-size:10.0pt\;line-height:107%\;font-family:&quot\;Garamond&quot\;\,serif"><o:p>&nbsp\;</o:p></span></b></p>\n\n<p class="MsoNormal" style="margin-bottom:0in\;margin-bottom:.0001pt\;line-height:\\r\\nnormal"><b><span style="font-size:13.5pt\;font-family:&quot\;Arial&quot\;\,sans-serif\;\\r\\nmso-fareast-font-family:&quot\;Times New Roman&quot\;\;color:red">Final Inspection Day - Tuesday\, February 10\, 2026<br />\n9:00 am<o:p></o:p></span></b></p>\n\n<p class="MsoNormal" style="margin-left:1.0in\;text-indent:.5in"><span style="font-size:10.0pt\;line-height:107%\;font-family:&quot\;Garamond&quot\;\,serif"><o:p>&nbsp\;</o:p></span></p>\n\n<p class="MsoNormal" style="margin-bottom:0in\;margin-bottom:.0001pt\;line-height:\\r\\n15.0pt"><span style="font-size: 10.5pt\; font-family: Arial\, sans-serif\;">a. &nbsp\;Home completely finished. Refer to <a href="https://d1a8dioxuajlzs.cloudfront.net/accounts/8906/original/2023_POH_-_Exhibit_4_-_Final_Inspection_Checklist.pdf?1655232731" target="_blank">Exhibit 4.</a><o:p></o:p></span></p>\n\n<p class="MsoNormal" style="margin-bottom:0in\;margin-bottom:.0001pt\;line-height:\\r\\n15.0pt"><span style="font-size: 10.5pt\; font-family: Arial\, sans-serif\;">b. &nbsp\;Deliver Signed Final Inspection Checklist (Exhibit 4) to Association prior to 9:00 am.</span><br />\n<br />\n<span style="font-size:14px\;"><span style="font-family:roboto\;">Click <a href="https://form.jotform.com/210187023893152"><strong>here</strong></a> to complete and submit Final&nbsp\;Inspection Checklist online.</span></span><br />\n<br />\n<br />\n<a href="https://d1a8dioxuajlzs.cloudfront.net/accounts/8906/original/2026_Parade_of_Homes_Deadlines__8xikmikqXyAR8WQ.pdf?1756406880"><strong><span style="font-size: 14px\;">Here is a full list of&nbsp\;Parade deadlines.</span></strong></a><span style="font-size: 10.5pt\; font-family: Arial\, sans-serif\;"><o:p></o:p></span></p>\n\n<p class="MsoNormal" style="margin-left:1.0in\;text-indent:.5in">&nbsp\;</p>\n\n<p class="MsoNormal" style="margin-left:.5in\;text-indent:.5in"><b><span style="font-size:10.0pt\;line-height:107%\;font-family:&quot\;Garamond&quot\;\,serif"><o:p>&nbsp\;</o:p></span></b></p>\n
LOCATION:
UID:e.9588.26478
SEQUENCE:3
DTSTAMP:20260424T045545Z
URL:https://members.suhba.com/events/details/parade-of-homes-final-inspection-day-26478
END:VEVENT

END:VCALENDAR
