BEGIN:VCALENDAR
VERSION:2.0
PRODID:-//ChamberMaster//Event Calendar 2.0//EN
METHOD:PUBLISH
X-PUBLISHED-TTL:P3D
REFRESH-INTERVAL:P3D
CALSCALE:GREGORIAN
BEGIN:VEVENT
DTSTART:20260204T150000Z
DTEND:20260204T160000Z
X-MICROSOFT-CDO-ALLDAYEVENT:FALSE
SUMMARY:Parade of Homes - First Inspection Day
DESCRIPTION:Wednesday\, February 4\, 2026 - 8:00 am\n\n\n\nFirst Inspection Day\n\n	Home completed (interior decoration\, landscaping\, and exterior excluded). Refer to Exhibit 3.\n	Deliver Signed First Inspection Checklist (Exhibit 3) to Association prior to 9:00 am\n\n\n\nPrior to 9:00 am\, February 4\, 2026 - Submit Exhibit 3 online.\n\n\n	Submit Form Online - Click here to complete and submit Exhibit 3 - First Inspection Checklist online.\n\n\n\nIs your Parade Home ready for final inspection - Exhibit 4 - Please submit Exhibit 4 online.\n\n\n\nHere is a full list of Parade deadlines.
X-ALT-DESC;FMTTYPE=text/html:<div style="font-family: Tahoma\, sans-serif\; font-size: 11pt\; padding: 10px\;"><strong><span style="color: rgb(255\, 0\, 0)\;"><span style="font-size: 16px\;">Wednesday\, February 4\, 2026 - 8:00 am</span></span></strong><br />\n<br />\n<u><strong><span style="font-size: 14px\;">First Inspection Day</span></strong></u>\n<ul>\n	<li>Home completed (interior decoration\, landscaping\, and exterior excluded). Refer to&nbsp\;<a href="https://d1a8dioxuajlzs.cloudfront.net/accounts/8906/original/2024_POH_-_Exhibit_3_-_First_Interior_Inspection_Checklist.pdf?1704731293" target="_blank">Exhibit 3.</a></li>\n	<li>Deliver Signed First Inspection Checklist (Exhibit 3) to Association prior to 9:00 am</li>\n</ul>\n<br />\n<strong><span style="font-size: 14.6667px\;"><span style="color: rgb(255\, 0\, 0)\;">Prior to 9:00 am\, February 4\, 2026 - Submit Exhibit 3 online.</span></span></strong>\n\n<ul>\n	<li><strong>Submit Form Online</strong> -&nbsp\;Click&nbsp\;<a href="https://form.jotform.com/200266059242146">here</a>&nbsp\;to complete and submit Exhibit 3 - First Inspection Checklist online.</li>\n</ul>\n<br />\nIs your Parade Home ready for final inspection - <a href="https://d1a8dioxuajlzs.cloudfront.net/accounts/8906/original/2024_POH_-_Exhibit_4_-_Final_Inspection_Checklist.pdf?1704731303" target="_blank">Exhibit 4</a> - Please submit <a href="https://form.jotform.com/200276362879160" target="_blank">Exhibit 4 online.</a><br />\n<br />\n<a href="https://d1a8dioxuajlzs.cloudfront.net/accounts/8906/original/2026_Parade_of_Homes_Deadlines__8xikmikqXyAR8WQ.pdf?1756406880">Here is a full list of Parade deadlines.</a></div>\n\n<div style="font-family: Tahoma\, sans-serif\; font-size: 10.6667px\; padding-top: 8px\; padding-left: 20px\;">&nbsp\;</div>\n
LOCATION:
UID:e.9588.26477
SEQUENCE:3
DTSTAMP:20260424T034542Z
URL:https://members.suhba.com/events/details/parade-of-homes-first-inspection-day-26477
END:VEVENT

END:VCALENDAR
