BEGIN:VCALENDAR
VERSION:2.0
PRODID:-//ChamberMaster//Event Calendar 2.0//EN
METHOD:PUBLISH
X-PUBLISHED-TTL:P3D
REFRESH-INTERVAL:P3D
CALSCALE:GREGORIAN
BEGIN:VEVENT
DTSTART;VALUE=DATE:20260205
DTEND;VALUE=DATE:20260206
TRANSP:TRANSPARENT
X-MICROSOFT-CDO-ALLDAYEVENT:TRUE
SUMMARY:Parade of Homes Signage Order Due Date to Avoid 30% Rush Fee
DESCRIPTION:To order interior or exterior signage\n\nSignage policy
X-ALT-DESC;FMTTYPE=text/html:<span style="font-size:16px\;"><a href="https://rainbowsign.net/parade-of-homes/">To order interior or exterior signage</a><br />\n<a href="https://d1a8dioxuajlzs.cloudfront.net/accounts/8906/original/2026_BUILDER_PARTICIPATION_PARADE_CONTRACT_-_Exh_6_-_Signage_Policy__MJyTuf8Yl4FmIdG.pdf?1762802511"><span style="font-size:14px\;">Signage policy</span></a></span>
LOCATION:
UID:e.9588.26476
SEQUENCE:3
DTSTAMP:20260424T035418Z
URL:https://members.suhba.com/events/details/parade-of-homes-signage-order-due-date-to-avoid-30-rush-fee-26476
END:VEVENT

END:VCALENDAR
