BEGIN:VCALENDAR
VERSION:2.0
PRODID:-//ChamberMaster//Event Calendar 2.0//EN
METHOD:PUBLISH
X-PUBLISHED-TTL:P3D
REFRESH-INTERVAL:P3D
CALSCALE:GREGORIAN
BEGIN:VEVENT
DTSTART:20260514T210000Z
DTEND:20260514T230000Z
X-MICROSOFT-CDO-ALLDAYEVENT:FALSE
SUMMARY:Safe Pillar Series - Suicide Prevention 101
DESCRIPTION:The Safe Pillar Series is a four-part training program designed to equip local pillars/individuals in communities and industries (like the building and construction community) with practical skills and resources to better support the wellbeing\, safety\, and mental health of those within their organizations. Each course is taught by certified members and organizations in the community and builds toward helping participants feel confident recognizing when someone may be struggling\, knowing how to respond\, equipping them with resources to help provide or refer them to and strengthening safety culture throughout the industry.\n\n\n\nRegister Here
X-ALT-DESC;FMTTYPE=text/html:The Safe Pillar Series is a four-part training program designed to equip local pillars/individuals in communities and industries (like the building and construction community) with practical skills and resources to better support the wellbeing\, safety\, and mental health of those within their organizations. Each course is taught by certified members and organizations in the community and builds toward helping participants feel confident recognizing when someone may be struggling\, knowing how to respond\, equipping them with resources to help provide or refer them to and strengthening safety culture throughout the industry.<br />\n<br />\n<a href="https://reg.learningstream.com/reg/event_page.aspx?ek=0090-0014-6a5b3452078e4424810fa4495851b3f3"><span style="font-size:18px\;"><strong>Register Here</strong></span></a><br />\n<br />\n&nbsp\;
LOCATION:SUHBA Office 301 N 200 E Park in the north parking lot and enter the door to the far right labeled SUHBA Education Entrance.
UID:e.9588.26571
SEQUENCE:3
DTSTAMP:20260422T082334Z
URL:https://members.suhba.com/events/details/safe-pillar-series-suicide-prevention-101-26571
END:VEVENT

END:VCALENDAR
