BEGIN:VCALENDAR
VERSION:2.0
PRODID:-//ChamberMaster//Event Calendar 2.0//EN
METHOD:PUBLISH
X-PUBLISHED-TTL:P3D
REFRESH-INTERVAL:P3D
CALSCALE:GREGORIAN
BEGIN:VEVENT
DTSTART:20250417T180000Z
DTEND:20250417T193000Z
X-MICROSOFT-CDO-ALLDAYEVENT:FALSE
SUMMARY:Scholarship Committee
DESCRIPTION:Scholarship Committee Meeting to award SUHBA scholarships.\n\n\n\nLight lunch will be provided.
X-ALT-DESC;FMTTYPE=text/html:Scholarship Committee Meeting to award SUHBA scholarships.<br />\n<br />\nLight lunch will be provided.&nbsp\;<br />\n<br />\n&nbsp\;
LOCATION:SUHBA Office 301 N 200 E Ste 2A St George\, UT 84770
UID:e.9588.26428
SEQUENCE:3
DTSTAMP:20260421T082057Z
URL:https://members.suhba.com/events/details/scholarship-committee-26428
END:VEVENT

END:VCALENDAR
