BEGIN:VCALENDAR
VERSION:2.0
PRODID:-//ChamberMaster//Event Calendar 2.0//EN
METHOD:PUBLISH
X-PUBLISHED-TTL:P3D
REFRESH-INTERVAL:P3D
CALSCALE:GREGORIAN
BEGIN:VEVENT
DTSTART:20260528T170000Z
DTEND:20260528T180000Z
X-MICROSOFT-CDO-ALLDAYEVENT:FALSE
SUMMARY:Subcontractor Committee Meeting
DESCRIPTION:Subcontractor Committee will meet from 11am-12pm.
X-ALT-DESC;FMTTYPE=text/html:Subcontractor Committee will meet from 11am-12pm.&nbsp\;
LOCATION:SUHBA Office: 301 N 200 E\, Ste 2A\, St\, George\, UT\, 84770
UID:e.9588.26572
SEQUENCE:3
DTSTAMP:20260424T045017Z
URL:https://members.suhba.com/events/details/subcontractor-committee-meeting-26572
END:VEVENT

END:VCALENDAR
